BEGIN:VCALENDAR
VERSION:2.0
PRODID:-//Välkommen till Växjö Jaktskytteklubb - ECPv6.15.20//NONSGML v1.0//EN
CALSCALE:GREGORIAN
METHOD:PUBLISH
X-WR-CALNAME:Välkommen till Växjö Jaktskytteklubb
X-ORIGINAL-URL:https://vaxjojsk.se
X-WR-CALDESC:Händelser för Välkommen till Växjö Jaktskytteklubb
REFRESH-INTERVAL;VALUE=DURATION:PT1H
X-Robots-Tag:noindex
X-PUBLISHED-TTL:PT1H
BEGIN:VTIMEZONE
TZID:Europe/Stockholm
BEGIN:DAYLIGHT
TZOFFSETFROM:+0100
TZOFFSETTO:+0200
TZNAME:CEST
DTSTART:20250330T010000
END:DAYLIGHT
BEGIN:STANDARD
TZOFFSETFROM:+0200
TZOFFSETTO:+0100
TZNAME:CET
DTSTART:20251026T010000
END:STANDARD
BEGIN:DAYLIGHT
TZOFFSETFROM:+0100
TZOFFSETTO:+0200
TZNAME:CEST
DTSTART:20260329T010000
END:DAYLIGHT
BEGIN:STANDARD
TZOFFSETFROM:+0200
TZOFFSETTO:+0100
TZNAME:CET
DTSTART:20261025T010000
END:STANDARD
BEGIN:DAYLIGHT
TZOFFSETFROM:+0100
TZOFFSETTO:+0200
TZNAME:CEST
DTSTART:20270328T010000
END:DAYLIGHT
BEGIN:STANDARD
TZOFFSETFROM:+0200
TZOFFSETTO:+0100
TZNAME:CET
DTSTART:20271031T010000
END:STANDARD
END:VTIMEZONE
BEGIN:VEVENT
DTSTART;TZID=Europe/Stockholm:20260420T173000
DTEND;TZID=Europe/Stockholm:20260420T193000
DTSTAMP:20260420T052652
CREATED:20260222T121534Z
LAST-MODIFIED:20260401T133456Z
UID:10002027-1776706200-1776713400@vaxjojsk.se
SUMMARY:Öppen träning Nordisk Trap 17.30-19.30
DESCRIPTION:Om möjligt betalning med Swish
URL:https://vaxjojsk.se/bokningskalender/oppen-traning-nordisk-trap-17-30-19-30/2026-04-20/
LOCATION:Trapbana 1
CATEGORIES:Träning
ORGANIZER;CN="V%C3%A5ge Hagelberg":MAILTO:vage.hagelberg@merit-ab.se
END:VEVENT
BEGIN:VEVENT
DTSTART;TZID=Europe/Stockholm:20260420T180000
DTEND;TZID=Europe/Stockholm:20260420T200000
DTSTAMP:20260420T052652
CREATED:20260222T162236Z
LAST-MODIFIED:20260222T162236Z
UID:10002106-1776708000-1776715200@vaxjojsk.se
SUMMARY:Öppen träning 50m-banan\, Kula kal. 22
DESCRIPTION:Varje måndag under april-juni har vi öppen träning på 50m-banan. Huvudsyftet är att träna kulskytte med kaliber 22lr på älg- eller grisfigur. \nVarmt välkomna!
URL:https://vaxjojsk.se/bokningskalender/oppen-traning-50m-banan-kula-kal-22-5/2026-04-20/
LOCATION:50 meter banan
CATEGORIES:Träning
ORGANIZER;CN="Thomas Frick":MAILTO:tottefrick@hotmail.com
END:VEVENT
BEGIN:VEVENT
DTSTART;TZID=Europe/Stockholm:20260420T180000
DTEND;TZID=Europe/Stockholm:20260420T203000
DTSTAMP:20260420T052652
CREATED:20260310T073336Z
LAST-MODIFIED:20260310T073336Z
UID:10002176-1776708000-1776717000@vaxjojsk.se
SUMMARY:Arbetsmöte Styrelsen
DESCRIPTION:Fredrik Dacke\, 0727-398092
URL:https://vaxjojsk.se/bokningskalender/arbetsmote-styrelsen/
LOCATION:Sekretariatet
CATEGORIES:Möte,Styrelsemöte
END:VEVENT
END:VCALENDAR