BEGIN:VCALENDAR
VERSION:2.0
PRODID:-//Välkommen till Växjö Jaktskytteklubb - ECPv6.15.20//NONSGML v1.0//EN
CALSCALE:GREGORIAN
METHOD:PUBLISH
X-WR-CALNAME:Välkommen till Växjö Jaktskytteklubb
X-ORIGINAL-URL:https://vaxjojsk.se
X-WR-CALDESC:Händelser för Välkommen till Växjö Jaktskytteklubb
REFRESH-INTERVAL;VALUE=DURATION:PT1H
X-Robots-Tag:noindex
X-PUBLISHED-TTL:PT1H
BEGIN:VTIMEZONE
TZID:Europe/Stockholm
BEGIN:DAYLIGHT
TZOFFSETFROM:+0100
TZOFFSETTO:+0200
TZNAME:CEST
DTSTART:20230326T010000
END:DAYLIGHT
BEGIN:STANDARD
TZOFFSETFROM:+0200
TZOFFSETTO:+0100
TZNAME:CET
DTSTART:20231029T010000
END:STANDARD
BEGIN:DAYLIGHT
TZOFFSETFROM:+0100
TZOFFSETTO:+0200
TZNAME:CEST
DTSTART:20240331T010000
END:DAYLIGHT
BEGIN:STANDARD
TZOFFSETFROM:+0200
TZOFFSETTO:+0100
TZNAME:CET
DTSTART:20241027T010000
END:STANDARD
BEGIN:DAYLIGHT
TZOFFSETFROM:+0100
TZOFFSETTO:+0200
TZNAME:CEST
DTSTART:20250330T010000
END:DAYLIGHT
BEGIN:STANDARD
TZOFFSETFROM:+0200
TZOFFSETTO:+0100
TZNAME:CET
DTSTART:20251026T010000
END:STANDARD
END:VTIMEZONE
BEGIN:VEVENT
DTSTART;TZID=Europe/Stockholm:20240521T180000
DTEND;TZID=Europe/Stockholm:20240521T200000
DTSTAMP:20260420T052136
CREATED:20240513T161237Z
LAST-MODIFIED:20240513T161244Z
UID:10000915-1716314400-1716321600@vaxjojsk.se
SUMMARY:Målning på inskjutningsbanan 18-20\, = Skjutförbud
DESCRIPTION:Tvättning av inskjutningsbodarna
URL:https://vaxjojsk.se/bokningskalender/malning-pa-inskjutningsbanan-18-20-skjutforbud/
LOCATION:Inskjutningsbanan\, Växjö
CATEGORIES:Städdag
END:VEVENT
BEGIN:VEVENT
DTSTART;TZID=Europe/Stockholm:20240528T180000
DTEND;TZID=Europe/Stockholm:20240528T220000
DTSTAMP:20260420T052136
CREATED:20240513T161441Z
LAST-MODIFIED:20240513T161441Z
UID:10000916-1716919200-1716933600@vaxjojsk.se
SUMMARY:Målning på inskjutningsbanan 18-20\, = Skjutförbud
DESCRIPTION:Idag målar vi
URL:https://vaxjojsk.se/bokningskalender/malning-pa-inskjutningsbanan-18-20-skjutforbud-2/
LOCATION:Inskjutningsbanan\, Växjö
CATEGORIES:Städdag
END:VEVENT
END:VCALENDAR