BEGIN:VCALENDAR
VERSION:2.0
PRODID:-//Välkommen till Växjö Jaktskytteklubb - ECPv6.15.20//NONSGML v1.0//EN
CALSCALE:GREGORIAN
METHOD:PUBLISH
X-WR-CALNAME:Välkommen till Växjö Jaktskytteklubb
X-ORIGINAL-URL:https://vaxjojsk.se
X-WR-CALDESC:Händelser för Välkommen till Växjö Jaktskytteklubb
REFRESH-INTERVAL;VALUE=DURATION:PT1H
X-Robots-Tag:noindex
X-PUBLISHED-TTL:PT1H
BEGIN:VTIMEZONE
TZID:Europe/Stockholm
BEGIN:DAYLIGHT
TZOFFSETFROM:+0100
TZOFFSETTO:+0200
TZNAME:CEST
DTSTART:20250330T010000
END:DAYLIGHT
BEGIN:STANDARD
TZOFFSETFROM:+0200
TZOFFSETTO:+0100
TZNAME:CET
DTSTART:20251026T010000
END:STANDARD
BEGIN:DAYLIGHT
TZOFFSETFROM:+0100
TZOFFSETTO:+0200
TZNAME:CEST
DTSTART:20260329T010000
END:DAYLIGHT
BEGIN:STANDARD
TZOFFSETFROM:+0200
TZOFFSETTO:+0100
TZNAME:CET
DTSTART:20261025T010000
END:STANDARD
BEGIN:DAYLIGHT
TZOFFSETFROM:+0100
TZOFFSETTO:+0200
TZNAME:CEST
DTSTART:20270328T010000
END:DAYLIGHT
BEGIN:STANDARD
TZOFFSETFROM:+0200
TZOFFSETTO:+0100
TZNAME:CET
DTSTART:20271031T010000
END:STANDARD
END:VTIMEZONE
BEGIN:VEVENT
DTSTART;TZID=Europe/Stockholm:20260504T180000
DTEND;TZID=Europe/Stockholm:20260504T203000
DTSTAMP:20260419T225624
CREATED:20260419T200923Z
LAST-MODIFIED:20260419T200954Z
UID:10002384-1777917600-1777926600@vaxjojsk.se
SUMMARY:Bokning Älgbana -Extra insatt tillfälle att träna på älgbanan.
DESCRIPTION:Extrainsatta tillfällen i maj för att träna på älgbanan.\nÖppet för alla.
URL:https://vaxjojsk.se/bokningskalender/bokning-algbana-extra-insatt-tillfalle-att-trana-pa-algbanan-4/
LOCATION:Älgbanan
CATEGORIES:Träning
ORGANIZER;CN="Miro Capin":MAILTO:mrcapin@gmail.com
END:VEVENT
END:VCALENDAR