BEGIN:VCALENDAR
VERSION:2.0
PRODID:-//Välkommen till Växjö Jaktskytteklubb - ECPv6.15.20//NONSGML v1.0//EN
CALSCALE:GREGORIAN
METHOD:PUBLISH
X-ORIGINAL-URL:https://vaxjojsk.se
X-WR-CALDESC:Händelser för Välkommen till Växjö Jaktskytteklubb
REFRESH-INTERVAL;VALUE=DURATION:PT1H
X-Robots-Tag:noindex
X-PUBLISHED-TTL:PT1H
BEGIN:VTIMEZONE
TZID:Europe/Stockholm
BEGIN:DAYLIGHT
TZOFFSETFROM:+0100
TZOFFSETTO:+0200
TZNAME:CEST
DTSTART:20240331T010000
END:DAYLIGHT
BEGIN:STANDARD
TZOFFSETFROM:+0200
TZOFFSETTO:+0100
TZNAME:CET
DTSTART:20241027T010000
END:STANDARD
BEGIN:DAYLIGHT
TZOFFSETFROM:+0100
TZOFFSETTO:+0200
TZNAME:CEST
DTSTART:20250330T010000
END:DAYLIGHT
BEGIN:STANDARD
TZOFFSETFROM:+0200
TZOFFSETTO:+0100
TZNAME:CET
DTSTART:20251026T010000
END:STANDARD
BEGIN:DAYLIGHT
TZOFFSETFROM:+0100
TZOFFSETTO:+0200
TZNAME:CEST
DTSTART:20260329T010000
END:DAYLIGHT
BEGIN:STANDARD
TZOFFSETFROM:+0200
TZOFFSETTO:+0100
TZNAME:CET
DTSTART:20261025T010000
END:STANDARD
END:VTIMEZONE
BEGIN:VEVENT
DTSTART;TZID=Europe/Stockholm:20251019T100000
DTEND;TZID=Europe/Stockholm:20251019T130000
DTSTAMP:20260419T225408
CREATED:20251018T121746Z
LAST-MODIFIED:20251018T121746Z
UID:10002002-1760868000-1760878800@vaxjojsk.se
SUMMARY:Privat träning
DESCRIPTION:
URL:https://vaxjojsk.se/bokningskalender/privat-traning-3/
LOCATION:Älgbanan
END:VEVENT
BEGIN:VEVENT
DTSTART;TZID=Europe/Stockholm:20251005T090000
DTEND;TZID=Europe/Stockholm:20251005T130000
DTSTAMP:20260419T225408
CREATED:20250914T195944Z
LAST-MODIFIED:20250914T200121Z
UID:10001978-1759654800-1759669200@vaxjojsk.se
SUMMARY:Älgbana
DESCRIPTION:Steve Kaemakidis bokar älgbanan
URL:https://vaxjojsk.se/bokningskalender/algbana-2/
LOCATION:Älgbanan
ORGANIZER;CN="Steve Kaemakidis":MAILTO:s.kaemakidis@telia.com
END:VEVENT
BEGIN:VEVENT
DTSTART;TZID=Europe/Stockholm:20251004T090000
DTEND;TZID=Europe/Stockholm:20251004T130000
DTSTAMP:20260419T225408
CREATED:20250226T191134Z
LAST-MODIFIED:20250226T191134Z
UID:10001377-1759568400-1759582800@vaxjojsk.se
SUMMARY:Älgbana allmän träning
DESCRIPTION:
URL:https://vaxjojsk.se/bokningskalender/algbana-allman-traning-2/2025-10-04/
LOCATION:Älgbanan
ORGANIZER;CN="Steve Kaemakidis":MAILTO:s.kaemakidis@telia.com
END:VEVENT
BEGIN:VEVENT
DTSTART;TZID=Europe/Stockholm:20251001T180000
DTEND;TZID=Europe/Stockholm:20251001T210000
DTSTAMP:20260419T225408
CREATED:20250930T192934Z
LAST-MODIFIED:20250930T192934Z
UID:10001993-1759341600-1759352400@vaxjojsk.se
SUMMARY:Älgbana
DESCRIPTION:Robert Olsson bokar älgbanan 1/10.
URL:https://vaxjojsk.se/bokningskalender/algbana-3/
LOCATION:Älgbanan
ORGANIZER;CN="Steve Kaemakidis":MAILTO:s.kaemakidis@telia.com
END:VEVENT
BEGIN:VEVENT
DTSTART;TZID=Europe/Stockholm:20250930T180000
DTEND;TZID=Europe/Stockholm:20250930T203000
DTSTAMP:20260419T225408
CREATED:20250316T205151Z
LAST-MODIFIED:20250316T205151Z
UID:10001714-1759255200-1759264200@vaxjojsk.se
SUMMARY:Älgbana. Allmän träning
DESCRIPTION:
URL:https://vaxjojsk.se/bokningskalender/algbana-allman-traning-12/
LOCATION:Älgbanan
ORGANIZER;CN="Steve Kaemakidis":MAILTO:s.kaemakidis@telia.com
END:VEVENT
BEGIN:VEVENT
DTSTART;TZID=Europe/Stockholm:20250929T180000
DTEND;TZID=Europe/Stockholm:20250929T203000
DTSTAMP:20260419T225408
CREATED:20250316T205052Z
LAST-MODIFIED:20250316T205052Z
UID:10001713-1759168800-1759177800@vaxjojsk.se
SUMMARY:Älgbana. Allmän träning
DESCRIPTION:
URL:https://vaxjojsk.se/bokningskalender/algbana-allman-traning-11/
LOCATION:Älgbanan
ORGANIZER;CN="Steve Kaemakidis":MAILTO:s.kaemakidis@telia.com
END:VEVENT
BEGIN:VEVENT
DTSTART;TZID=Europe/Stockholm:20250928T090000
DTEND;TZID=Europe/Stockholm:20250928T130000
DTSTAMP:20260419T225408
CREATED:20250506T180944Z
LAST-MODIFIED:20250506T180944Z
UID:10001823-1759050000-1759064400@vaxjojsk.se
SUMMARY:Holstorp bokar älgbanan fm
DESCRIPTION:
URL:https://vaxjojsk.se/bokningskalender/holstorp-bokar-algbanan-fm/
LOCATION:Älgbanan
ORGANIZER;CN="Steve Kaemakidis":MAILTO:s.kaemakidis@telia.com
END:VEVENT
BEGIN:VEVENT
DTSTART;TZID=Europe/Stockholm:20250927T090000
DTEND;TZID=Europe/Stockholm:20250927T130000
DTSTAMP:20260419T225408
CREATED:20250226T191134Z
LAST-MODIFIED:20250226T191134Z
UID:10001376-1758963600-1758978000@vaxjojsk.se
SUMMARY:Älgbana allmän träning
DESCRIPTION:
URL:https://vaxjojsk.se/bokningskalender/algbana-allman-traning-2/2025-09-27/
LOCATION:Älgbanan
ORGANIZER;CN="Steve Kaemakidis":MAILTO:s.kaemakidis@telia.com
END:VEVENT
BEGIN:VEVENT
DTSTART;TZID=Europe/Stockholm:20250924T170000
DTEND;TZID=Europe/Stockholm:20250924T203000
DTSTAMP:20260419T225408
CREATED:20250831T162611Z
LAST-MODIFIED:20250901T190256Z
UID:10001962-1758733200-1758745800@vaxjojsk.se
SUMMARY:Jägarexamen Kulgevärsprov FULLSATT!!
DESCRIPTION:
URL:https://vaxjojsk.se/bokningskalender/jagarexamen-kulgevarsprov-3/
LOCATION:Älgbanan
CATEGORIES:Jägarexamenprov
ORGANIZER;CN="Peter Jeppsson":MAILTO:pidda79@gmail.com
END:VEVENT
BEGIN:VEVENT
DTSTART;TZID=Europe/Stockholm:20250923T180000
DTEND;TZID=Europe/Stockholm:20250923T203000
DTSTAMP:20260419T225408
CREATED:20250316T204938Z
LAST-MODIFIED:20250316T204938Z
UID:10001712-1758650400-1758659400@vaxjojsk.se
SUMMARY:Älgbana. Allmän träning
DESCRIPTION:
URL:https://vaxjojsk.se/bokningskalender/algbana-allman-traning-10/
LOCATION:Älgbanan
ORGANIZER;CN="Steve Kaemakidis":MAILTO:s.kaemakidis@telia.com
END:VEVENT
BEGIN:VEVENT
DTSTART;TZID=Europe/Stockholm:20250922T180000
DTEND;TZID=Europe/Stockholm:20250922T203000
DTSTAMP:20260419T225408
CREATED:20250316T204831Z
LAST-MODIFIED:20250316T204831Z
UID:10001711-1758564000-1758573000@vaxjojsk.se
SUMMARY:Älgbana. Allmän träning
DESCRIPTION:
URL:https://vaxjojsk.se/bokningskalender/algbana-allman-traning-9/
LOCATION:Älgbanan
ORGANIZER;CN="Steve Kaemakidis":MAILTO:s.kaemakidis@telia.com
END:VEVENT
BEGIN:VEVENT
DTSTART;TZID=Europe/Stockholm:20250920T090000
DTEND;TZID=Europe/Stockholm:20250920T130000
DTSTAMP:20260419T225408
CREATED:20250226T191134Z
LAST-MODIFIED:20250226T191134Z
UID:10001375-1758358800-1758373200@vaxjojsk.se
SUMMARY:Älgbana allmän träning
DESCRIPTION:
URL:https://vaxjojsk.se/bokningskalender/algbana-allman-traning-2/2025-09-20/
LOCATION:Älgbanan
ORGANIZER;CN="Steve Kaemakidis":MAILTO:s.kaemakidis@telia.com
END:VEVENT
BEGIN:VEVENT
DTSTART;TZID=Europe/Stockholm:20250918T130000
DTEND;TZID=Europe/Stockholm:20250918T160000
DTSTAMP:20260419T225408
CREATED:20250915T111252Z
LAST-MODIFIED:20250915T111252Z
UID:10001980-1758200400-1758211200@vaxjojsk.se
SUMMARY:Bokn älgbana
DESCRIPTION:Mikael & Våge
URL:https://vaxjojsk.se/bokningskalender/bokn-algbana-3/
LOCATION:Älgbanan
CATEGORIES:Övrigt
ORGANIZER;CN="Mikael Listerud":MAILTO:enkoneryd@gmail.com
END:VEVENT
BEGIN:VEVENT
DTSTART;TZID=Europe/Stockholm:20250918T090000
DTEND;TZID=Europe/Stockholm:20250918T120000
DTSTAMP:20260419T225408
CREATED:20250915T111135Z
LAST-MODIFIED:20250915T111135Z
UID:10001979-1758186000-1758196800@vaxjojsk.se
SUMMARY:Bokn älgbana
DESCRIPTION:Mikael 072-3176035
URL:https://vaxjojsk.se/bokningskalender/bokn-algbana-2/
LOCATION:Älgbanan
CATEGORIES:Övrigt
ORGANIZER;CN="Mikael Listerud":MAILTO:enkoneryd@gmail.com
END:VEVENT
BEGIN:VEVENT
DTSTART;TZID=Europe/Stockholm:20250917T180000
DTEND;TZID=Europe/Stockholm:20250917T200000
DTSTAMP:20260419T225408
CREATED:20250916T140428Z
LAST-MODIFIED:20250916T140539Z
UID:10001983-1758132000-1758139200@vaxjojsk.se
SUMMARY:älgbanan privatskjutning
DESCRIPTION:älgbanan \nprivat skjutning \nskjutledare Daniel Bjureby 0709210631
URL:https://vaxjojsk.se/bokningskalender/privatskjutning/
LOCATION:Älgbanan
END:VEVENT
BEGIN:VEVENT
DTSTART;TZID=Europe/Stockholm:20250917T163000
DTEND;TZID=Europe/Stockholm:20250917T180000
DTSTAMP:20260419T225408
CREATED:20250914T173633Z
LAST-MODIFIED:20250914T173633Z
UID:10001977-1758126600-1758132000@vaxjojsk.se
SUMMARY:Älgbanan Privat bokning
DESCRIPTION:Älgbanan Privat bokning Tolgs Nöbbele Jaktlag. \nSkjutledare Magnus Olsson 070-6362986
URL:https://vaxjojsk.se/bokningskalender/algbanan-privat-bokning-2/
LOCATION:Älgbanan
ORGANIZER;CN="Magnus Olsson":MAILTO:magnus.olsson@safegrade.se
END:VEVENT
BEGIN:VEVENT
DTSTART;TZID=Europe/Stockholm:20250916T180000
DTEND;TZID=Europe/Stockholm:20250916T203000
DTSTAMP:20260419T225408
CREATED:20250316T204711Z
LAST-MODIFIED:20250316T204711Z
UID:10001710-1758045600-1758054600@vaxjojsk.se
SUMMARY:Älgbana. Allmän träning
DESCRIPTION:
URL:https://vaxjojsk.se/bokningskalender/algbana-allman-traning-8/
LOCATION:Älgbanan
ORGANIZER;CN="Steve Kaemakidis":MAILTO:s.kaemakidis@telia.com
END:VEVENT
BEGIN:VEVENT
DTSTART;TZID=Europe/Stockholm:20250915T180000
DTEND;TZID=Europe/Stockholm:20250915T203000
DTSTAMP:20260419T225408
CREATED:20250316T204549Z
LAST-MODIFIED:20250316T204549Z
UID:10001709-1757959200-1757968200@vaxjojsk.se
SUMMARY:Älgbana. Allmän träning
DESCRIPTION:
URL:https://vaxjojsk.se/bokningskalender/algbana-allman-traning-7/
LOCATION:Älgbanan
ORGANIZER;CN="Steve Kaemakidis":MAILTO:s.kaemakidis@telia.com
END:VEVENT
BEGIN:VEVENT
DTSTART;TZID=Europe/Stockholm:20250914T100000
DTEND;TZID=Europe/Stockholm:20250914T160000
DTSTAMP:20260419T225408
CREATED:20250712T082710Z
LAST-MODIFIED:20250918T110845Z
UID:10001917-1757844000-1757865600@vaxjojsk.se
SUMMARY:Träning jägarexamen Lars Ekströmer / Mikael
DESCRIPTION:Träning för Jägarexamen. Sportingbanor\, 50-metersbana\, älgbana. Kontakta Lars 0758543284 vid frågor.
URL:https://vaxjojsk.se/bokningskalender/traning-jagarexamen-dick-ekstromer/
LOCATION:50 meter banan
ORGANIZER;CN="Lars Ekstr%C3%B6mer":MAILTO:lars.ekstromer@bahnhof.se
END:VEVENT
BEGIN:VEVENT
DTSTART;TZID=Europe/Stockholm:20250913T090000
DTEND;TZID=Europe/Stockholm:20250913T130000
DTSTAMP:20260419T225408
CREATED:20250304T195411Z
LAST-MODIFIED:20250304T195411Z
UID:10001374-1757754000-1757768400@vaxjojsk.se
SUMMARY:Älgbana allmän träning
DESCRIPTION:
URL:https://vaxjojsk.se/bokningskalender/algbana-allman-traning-3/
LOCATION:Älgbanan
ORGANIZER;CN="Steve Kaemakidis":MAILTO:s.kaemakidis@telia.com
END:VEVENT
BEGIN:VEVENT
DTSTART;TZID=Europe/Stockholm:20250911T120000
DTEND;TZID=Europe/Stockholm:20250911T130000
DTSTAMP:20260419T225408
CREATED:20250910T133820Z
LAST-MODIFIED:20250910T133820Z
UID:10001972-1757592000-1757595600@vaxjojsk.se
SUMMARY:Bokn älgbana
DESCRIPTION:Mikael 072-3176035
URL:https://vaxjojsk.se/bokningskalender/bokn-algbana/
LOCATION:Älgbanan
CATEGORIES:Övrigt
ORGANIZER;CN="Mikael Listerud":MAILTO:enkoneryd@gmail.com
END:VEVENT
BEGIN:VEVENT
DTSTART;TZID=Europe/Stockholm:20250909T180000
DTEND;TZID=Europe/Stockholm:20250909T203000
DTSTAMP:20260419T225408
CREATED:20250316T204002Z
LAST-MODIFIED:20250316T204013Z
UID:10001707-1757440800-1757449800@vaxjojsk.se
SUMMARY:Älgbana. Allmän träning
DESCRIPTION:
URL:https://vaxjojsk.se/bokningskalender/algbana-allman-traning-5/
LOCATION:Älgbanan
ORGANIZER;CN="Steve Kaemakidis":MAILTO:s.kaemakidis@telia.com
END:VEVENT
BEGIN:VEVENT
DTSTART;TZID=Europe/Stockholm:20250908T180000
DTEND;TZID=Europe/Stockholm:20250908T203000
DTSTAMP:20260419T225408
CREATED:20250316T203706Z
LAST-MODIFIED:20250316T203706Z
UID:10001706-1757354400-1757363400@vaxjojsk.se
SUMMARY:Älgbana. Allmän träning
DESCRIPTION:
URL:https://vaxjojsk.se/bokningskalender/algbana-allman-traning-4/
LOCATION:Älgbanan
ORGANIZER;CN="Steve Kaemakidis":MAILTO:s.kaemakidis@telia.com
END:VEVENT
BEGIN:VEVENT
DTSTART;TZID=Europe/Stockholm:20250907T100000
DTEND;TZID=Europe/Stockholm:20250907T120000
DTSTAMP:20260419T225408
CREATED:20250724T081755Z
LAST-MODIFIED:20250724T081755Z
UID:10001924-1757239200-1757246400@vaxjojsk.se
SUMMARY:Bokning Älgbanan 10.00-12.00.
DESCRIPTION:Privat bokning Älgbanan. \nGemla Jaktsällskap. \n  \nSkjutledare Magnus Olsson 070-6362986.
URL:https://vaxjojsk.se/bokningskalender/bokning-algbanan-10-00-12-00-2/
LOCATION:Älgbanan
ORGANIZER;CN="Magnus Olsson":MAILTO:magnus.olsson@safegrade.se
END:VEVENT
BEGIN:VEVENT
DTSTART;TZID=Europe/Stockholm:20250906T090000
DTEND;TZID=Europe/Stockholm:20250906T130000
DTSTAMP:20260419T225408
CREATED:20250304T195324Z
LAST-MODIFIED:20250304T195324Z
UID:10001373-1757149200-1757163600@vaxjojsk.se
SUMMARY:Älgbana allmän träning
DESCRIPTION:
URL:https://vaxjojsk.se/bokningskalender/algbana-allman-traning/
LOCATION:Älgbanan
ORGANIZER;CN="Steve Kaemakidis":MAILTO:s.kaemakidis@telia.com
END:VEVENT
BEGIN:VEVENT
DTSTART;TZID=Europe/Stockholm:20250902T180000
DTEND;TZID=Europe/Stockholm:20250902T203000
DTSTAMP:20260419T225408
CREATED:20250226T185021Z
LAST-MODIFIED:20250304T192901Z
UID:10001362-1756836000-1756845000@vaxjojsk.se
SUMMARY:Älgbana allmän träning
DESCRIPTION:Allmän träning
URL:https://vaxjojsk.se/bokningskalender/algbana/2025-09-02/
LOCATION:Älgbanan
ORGANIZER;CN="Steve Kaemakidis":MAILTO:s.kaemakidis@telia.com
END:VEVENT
BEGIN:VEVENT
DTSTART;TZID=Europe/Stockholm:20250901T180000
DTEND;TZID=Europe/Stockholm:20250901T203000
DTSTAMP:20260419T225408
CREATED:20250226T185021Z
LAST-MODIFIED:20250304T192901Z
UID:10001361-1756749600-1756758600@vaxjojsk.se
SUMMARY:Älgbana allmän träning
DESCRIPTION:Allmän träning
URL:https://vaxjojsk.se/bokningskalender/algbana/2025-09-01/
LOCATION:Älgbanan
ORGANIZER;CN="Steve Kaemakidis":MAILTO:s.kaemakidis@telia.com
END:VEVENT
BEGIN:VEVENT
DTSTART;TZID=Europe/Stockholm:20250827T180000
DTEND;TZID=Europe/Stockholm:20250827T200000
DTSTAMP:20260419T225408
CREATED:20250729T180230Z
LAST-MODIFIED:20250811T183550Z
UID:10001931-1756317600-1756324800@vaxjojsk.se
SUMMARY:Jägarexamen Kulgevärsprov FULLSATT!
DESCRIPTION:
URL:https://vaxjojsk.se/bokningskalender/jagarexamen-kulgevarsprov-2/
LOCATION:Älgbanan
CATEGORIES:Jägarexamenprov
ORGANIZER;CN="Peter Jeppsson":MAILTO:pidda79@gmail.com
END:VEVENT
BEGIN:VEVENT
DTSTART;TZID=Europe/Stockholm:20250826T180000
DTEND;TZID=Europe/Stockholm:20250826T203000
DTSTAMP:20260419T225408
CREATED:20250226T185021Z
LAST-MODIFIED:20250304T192901Z
UID:10001360-1756231200-1756240200@vaxjojsk.se
SUMMARY:Älgbana allmän träning
DESCRIPTION:Allmän träning
URL:https://vaxjojsk.se/bokningskalender/algbana/2025-08-26/
LOCATION:Älgbanan
ORGANIZER;CN="Steve Kaemakidis":MAILTO:s.kaemakidis@telia.com
END:VEVENT
BEGIN:VEVENT
DTSTART;TZID=Europe/Stockholm:20250825T180000
DTEND;TZID=Europe/Stockholm:20250825T203000
DTSTAMP:20260419T225408
CREATED:20250226T185021Z
LAST-MODIFIED:20250304T192901Z
UID:10001359-1756144800-1756153800@vaxjojsk.se
SUMMARY:Älgbana allmän träning
DESCRIPTION:Allmän träning
URL:https://vaxjojsk.se/bokningskalender/algbana/2025-08-25/
LOCATION:Älgbanan
ORGANIZER;CN="Steve Kaemakidis":MAILTO:s.kaemakidis@telia.com
END:VEVENT
END:VCALENDAR