BEGIN:VCALENDAR
VERSION:2.0
PRODID:-//Välkommen till Växjö Jaktskytteklubb - ECPv6.15.20//NONSGML v1.0//EN
CALSCALE:GREGORIAN
METHOD:PUBLISH
X-ORIGINAL-URL:https://vaxjojsk.se
X-WR-CALDESC:Händelser för Välkommen till Växjö Jaktskytteklubb
REFRESH-INTERVAL;VALUE=DURATION:PT1H
X-Robots-Tag:noindex
X-PUBLISHED-TTL:PT1H
BEGIN:VTIMEZONE
TZID:Europe/Stockholm
BEGIN:DAYLIGHT
TZOFFSETFROM:+0100
TZOFFSETTO:+0200
TZNAME:CEST
DTSTART:20250330T010000
END:DAYLIGHT
BEGIN:STANDARD
TZOFFSETFROM:+0200
TZOFFSETTO:+0100
TZNAME:CET
DTSTART:20251026T010000
END:STANDARD
BEGIN:DAYLIGHT
TZOFFSETFROM:+0100
TZOFFSETTO:+0200
TZNAME:CEST
DTSTART:20260329T010000
END:DAYLIGHT
BEGIN:STANDARD
TZOFFSETFROM:+0200
TZOFFSETTO:+0100
TZNAME:CET
DTSTART:20261025T010000
END:STANDARD
BEGIN:DAYLIGHT
TZOFFSETFROM:+0100
TZOFFSETTO:+0200
TZNAME:CEST
DTSTART:20270328T010000
END:DAYLIGHT
BEGIN:STANDARD
TZOFFSETFROM:+0200
TZOFFSETTO:+0100
TZNAME:CET
DTSTART:20271031T010000
END:STANDARD
END:VTIMEZONE
BEGIN:VEVENT
DTSTART;TZID=Europe/Stockholm:20260425T090000
DTEND;TZID=Europe/Stockholm:20260425T130000
DTSTAMP:20260419T211313
CREATED:20260416T093612Z
LAST-MODIFIED:20260416T093612Z
UID:10002372-1777107600-1777122000@vaxjojsk.se
SUMMARY:Jägarskolan
DESCRIPTION:
URL:https://vaxjojsk.se/bokningskalender/jagarskolan/
LOCATION:Älgbanan
CATEGORIES:Övrigt
ORGANIZER;CN="Jim Hammerin":MAILTO:jim.hammerin@gmail.com
END:VEVENT
BEGIN:VEVENT
DTSTART;TZID=Europe/Stockholm:20260504T180000
DTEND;TZID=Europe/Stockholm:20260504T203000
DTSTAMP:20260419T211313
CREATED:20260419T145715Z
LAST-MODIFIED:20260419T145715Z
UID:10002378-1777917600-1777926600@vaxjojsk.se
SUMMARY:Bokning Älgbana -Extra insatt tillfälle att träna på älgbanan.
DESCRIPTION:Extrainsatta tillfällen i maj för att träna på älgbanan.\nÖppet för alla.
URL:https://vaxjojsk.se/bokningskalender/bokning-algbana-extra-insatt-tillfalle-att-trana-pa-algbanan/2026-05-04/
LOCATION:Älgbanan
CATEGORIES:Träning
ORGANIZER;CN="Miro Capin":MAILTO:mrcapin@gmail.com
END:VEVENT
BEGIN:VEVENT
DTSTART;TZID=Europe/Stockholm:20260504T080000
DTEND;TZID=Europe/Stockholm:20260504T170000
DTSTAMP:20260419T211313
CREATED:20260419T145715Z
LAST-MODIFIED:20260419T145715Z
UID:10002377-1777881600-1777914000@vaxjojsk.se
SUMMARY:Bokning Älgbana -Extra insatt tillfälle att träna på älgbanan.
DESCRIPTION:Extrainsatta tillfällen i maj för att träna på älgbanan.\nÖppet för alla.
URL:https://vaxjojsk.se/bokningskalender/bokning-algbana-extra-insatt-tillfalle-att-trana-pa-algbanan/2026-05-04/
LOCATION:Älgbanan
CATEGORIES:Träning
ORGANIZER;CN="Miro Capin":MAILTO:mrcapin@gmail.com
END:VEVENT
BEGIN:VEVENT
DTSTART;TZID=Europe/Stockholm:20260511T180000
DTEND;TZID=Europe/Stockholm:20260511T203000
DTSTAMP:20260419T211313
CREATED:20260419T145715Z
LAST-MODIFIED:20260419T145715Z
UID:10002379-1778522400-1778531400@vaxjojsk.se
SUMMARY:Bokning Älgbana -Extra insatt tillfälle att träna på älgbanan.
DESCRIPTION:Extrainsatta tillfällen i maj för att träna på älgbanan.\nÖppet för alla.
URL:https://vaxjojsk.se/bokningskalender/bokning-algbana-extra-insatt-tillfalle-att-trana-pa-algbanan/2026-05-11/
LOCATION:Älgbanan
CATEGORIES:Träning
ORGANIZER;CN="Miro Capin":MAILTO:mrcapin@gmail.com
END:VEVENT
BEGIN:VEVENT
DTSTART;TZID=Europe/Stockholm:20260518T180000
DTEND;TZID=Europe/Stockholm:20260518T203000
DTSTAMP:20260419T211313
CREATED:20260419T151242Z
LAST-MODIFIED:20260419T151242Z
UID:10002380-1779127200-1779136200@vaxjojsk.se
SUMMARY:Bokning Älgbana - Extrainsatt öppen träning
DESCRIPTION:Extrainsatt öppen träning \nMiro 0709-660699
URL:https://vaxjojsk.se/bokningskalender/bokning-algbana-extrainsatt-oppen-traning/
LOCATION:Älgbanan
CATEGORIES:Träning
ORGANIZER;CN="Miro Capin":MAILTO:mrcapin@gmail.com
END:VEVENT
BEGIN:VEVENT
DTSTART;TZID=Europe/Stockholm:20260523T090000
DTEND;TZID=Europe/Stockholm:20260523T130000
DTSTAMP:20260419T211313
CREATED:20260328T123119Z
LAST-MODIFIED:20260328T123201Z
UID:10002270-1779526800-1779541200@vaxjojsk.se
SUMMARY:Jägarexamen Grundprov Kula/Högvilt
DESCRIPTION:
URL:https://vaxjojsk.se/bokningskalender/jagarexamensprov-grundprov-kula-hogvilt/
LOCATION:Älgbanan
CATEGORIES:Jägarexamenprov
ORGANIZER;CN="Peter Jeppsson":MAILTO:pidda79@gmail.com
END:VEVENT
BEGIN:VEVENT
DTSTART;TZID=Europe/Stockholm:20260525T180000
DTEND;TZID=Europe/Stockholm:20260525T203000
DTSTAMP:20260419T211313
CREATED:20260419T151628Z
LAST-MODIFIED:20260419T151628Z
UID:10002382-1779732000-1779741000@vaxjojsk.se
SUMMARY:Bokning Älgbanan - Extrainsatt öppen träning
DESCRIPTION:Extrainsatt öppen träning \nMiro 07099-660699
URL:https://vaxjojsk.se/bokningskalender/bokning-algbanan-extrainsatt-oppen-traning/
LOCATION:Älgbanan
CATEGORIES:Träning
ORGANIZER;CN="Miro Capin":MAILTO:mrcapin@gmail.com
END:VEVENT
BEGIN:VEVENT
DTSTART;TZID=Europe/Stockholm:20260803T180000
DTEND;TZID=Europe/Stockholm:20260803T203000
DTSTAMP:20260419T211313
CREATED:20260401T112036Z
LAST-MODIFIED:20260401T112036Z
UID:10002338-1785780000-1785789000@vaxjojsk.se
SUMMARY:Bokning älgbana\, öppen träning
DESCRIPTION:Öppen träning för medlemmar och icke medlemmar. \n0709-660699 Miro
URL:https://vaxjojsk.se/bokningskalender/bokning-algbana-oppen-traning/2026-08-03/
LOCATION:Älgbanan
CATEGORIES:Träning
ORGANIZER;CN="Miro Capin":MAILTO:mrcapin@gmail.com
END:VEVENT
BEGIN:VEVENT
DTSTART;TZID=Europe/Stockholm:20260804T180000
DTEND;TZID=Europe/Stockholm:20260804T203000
DTSTAMP:20260419T211313
CREATED:20260401T112036Z
LAST-MODIFIED:20260401T112036Z
UID:10002339-1785866400-1785875400@vaxjojsk.se
SUMMARY:Bokning älgbana\, öppen träning
DESCRIPTION:Öppen träning för medlemmar och icke medlemmar. \n0709-660699 Miro
URL:https://vaxjojsk.se/bokningskalender/bokning-algbana-oppen-traning/2026-08-04/
LOCATION:Älgbanan
CATEGORIES:Träning
ORGANIZER;CN="Miro Capin":MAILTO:mrcapin@gmail.com
END:VEVENT
BEGIN:VEVENT
DTSTART;TZID=Europe/Stockholm:20260810T180000
DTEND;TZID=Europe/Stockholm:20260810T203000
DTSTAMP:20260419T211313
CREATED:20260401T112036Z
LAST-MODIFIED:20260401T112036Z
UID:10002340-1786384800-1786393800@vaxjojsk.se
SUMMARY:Bokning älgbana\, öppen träning
DESCRIPTION:Öppen träning för medlemmar och icke medlemmar. \n0709-660699 Miro
URL:https://vaxjojsk.se/bokningskalender/bokning-algbana-oppen-traning/2026-08-10/
LOCATION:Älgbanan
CATEGORIES:Träning
ORGANIZER;CN="Miro Capin":MAILTO:mrcapin@gmail.com
END:VEVENT
BEGIN:VEVENT
DTSTART;TZID=Europe/Stockholm:20260811T180000
DTEND;TZID=Europe/Stockholm:20260811T203000
DTSTAMP:20260419T211313
CREATED:20260401T112036Z
LAST-MODIFIED:20260401T112036Z
UID:10002341-1786471200-1786480200@vaxjojsk.se
SUMMARY:Bokning älgbana\, öppen träning
DESCRIPTION:Öppen träning för medlemmar och icke medlemmar. \n0709-660699 Miro
URL:https://vaxjojsk.se/bokningskalender/bokning-algbana-oppen-traning/2026-08-11/
LOCATION:Älgbanan
CATEGORIES:Träning
ORGANIZER;CN="Miro Capin":MAILTO:mrcapin@gmail.com
END:VEVENT
BEGIN:VEVENT
DTSTART;TZID=Europe/Stockholm:20260817T180000
DTEND;TZID=Europe/Stockholm:20260817T203000
DTSTAMP:20260419T211313
CREATED:20260401T112036Z
LAST-MODIFIED:20260401T112036Z
UID:10002342-1786989600-1786998600@vaxjojsk.se
SUMMARY:Bokning älgbana\, öppen träning
DESCRIPTION:Öppen träning för medlemmar och icke medlemmar. \n0709-660699 Miro
URL:https://vaxjojsk.se/bokningskalender/bokning-algbana-oppen-traning/2026-08-17/
LOCATION:Älgbanan
CATEGORIES:Träning
ORGANIZER;CN="Miro Capin":MAILTO:mrcapin@gmail.com
END:VEVENT
BEGIN:VEVENT
DTSTART;TZID=Europe/Stockholm:20260818T180000
DTEND;TZID=Europe/Stockholm:20260818T203000
DTSTAMP:20260419T211313
CREATED:20260401T112036Z
LAST-MODIFIED:20260401T112036Z
UID:10002343-1787076000-1787085000@vaxjojsk.se
SUMMARY:Bokning älgbana\, öppen träning
DESCRIPTION:Öppen träning för medlemmar och icke medlemmar. \n0709-660699 Miro
URL:https://vaxjojsk.se/bokningskalender/bokning-algbana-oppen-traning/2026-08-18/
LOCATION:Älgbanan
CATEGORIES:Träning
ORGANIZER;CN="Miro Capin":MAILTO:mrcapin@gmail.com
END:VEVENT
BEGIN:VEVENT
DTSTART;TZID=Europe/Stockholm:20260824T180000
DTEND;TZID=Europe/Stockholm:20260824T203000
DTSTAMP:20260419T211313
CREATED:20260401T112036Z
LAST-MODIFIED:20260401T112036Z
UID:10002344-1787594400-1787603400@vaxjojsk.se
SUMMARY:Bokning älgbana\, öppen träning
DESCRIPTION:Öppen träning för medlemmar och icke medlemmar. \n0709-660699 Miro
URL:https://vaxjojsk.se/bokningskalender/bokning-algbana-oppen-traning/2026-08-24/
LOCATION:Älgbanan
CATEGORIES:Träning
ORGANIZER;CN="Miro Capin":MAILTO:mrcapin@gmail.com
END:VEVENT
BEGIN:VEVENT
DTSTART;TZID=Europe/Stockholm:20260825T180000
DTEND;TZID=Europe/Stockholm:20260825T203000
DTSTAMP:20260419T211313
CREATED:20260401T112036Z
LAST-MODIFIED:20260401T112036Z
UID:10002345-1787680800-1787689800@vaxjojsk.se
SUMMARY:Bokning älgbana\, öppen träning
DESCRIPTION:Öppen träning för medlemmar och icke medlemmar. \n0709-660699 Miro
URL:https://vaxjojsk.se/bokningskalender/bokning-algbana-oppen-traning/2026-08-25/
LOCATION:Älgbanan
CATEGORIES:Träning
ORGANIZER;CN="Miro Capin":MAILTO:mrcapin@gmail.com
END:VEVENT
BEGIN:VEVENT
DTSTART;TZID=Europe/Stockholm:20260831T180000
DTEND;TZID=Europe/Stockholm:20260831T203000
DTSTAMP:20260419T211313
CREATED:20260401T112036Z
LAST-MODIFIED:20260401T112036Z
UID:10002346-1788199200-1788208200@vaxjojsk.se
SUMMARY:Bokning älgbana\, öppen träning
DESCRIPTION:Öppen träning för medlemmar och icke medlemmar. \n0709-660699 Miro
URL:https://vaxjojsk.se/bokningskalender/bokning-algbana-oppen-traning/2026-08-31/
LOCATION:Älgbanan
CATEGORIES:Träning
ORGANIZER;CN="Miro Capin":MAILTO:mrcapin@gmail.com
END:VEVENT
BEGIN:VEVENT
DTSTART;TZID=Europe/Stockholm:20260901T180000
DTEND;TZID=Europe/Stockholm:20260901T203000
DTSTAMP:20260419T211313
CREATED:20260401T112036Z
LAST-MODIFIED:20260401T112036Z
UID:10002347-1788285600-1788294600@vaxjojsk.se
SUMMARY:Bokning älgbana\, öppen träning
DESCRIPTION:Öppen träning för medlemmar och icke medlemmar. \n0709-660699 Miro
URL:https://vaxjojsk.se/bokningskalender/bokning-algbana-oppen-traning/2026-09-01/
LOCATION:Älgbanan
CATEGORIES:Träning
ORGANIZER;CN="Miro Capin":MAILTO:mrcapin@gmail.com
END:VEVENT
BEGIN:VEVENT
DTSTART;TZID=Europe/Stockholm:20260905T090000
DTEND;TZID=Europe/Stockholm:20260905T130000
DTSTAMP:20260419T211313
CREATED:20260401T113040Z
LAST-MODIFIED:20260401T113040Z
UID:10002356-1788598800-1788613200@vaxjojsk.se
SUMMARY:Bokning älgbana
DESCRIPTION:Öppen träning för medlemmar och icke medlemmar. \n0709-660699 Miro
URL:https://vaxjojsk.se/bokningskalender/bokning-algbana-21/2026-09-05/
LOCATION:Älgbanan
CATEGORIES:Träning
ORGANIZER;CN="Miro Capin":MAILTO:mrcapin@gmail.com
END:VEVENT
BEGIN:VEVENT
DTSTART;TZID=Europe/Stockholm:20260907T180000
DTEND;TZID=Europe/Stockholm:20260907T203000
DTSTAMP:20260419T211313
CREATED:20260401T112036Z
LAST-MODIFIED:20260401T112036Z
UID:10002348-1788804000-1788813000@vaxjojsk.se
SUMMARY:Bokning älgbana\, öppen träning
DESCRIPTION:Öppen träning för medlemmar och icke medlemmar. \n0709-660699 Miro
URL:https://vaxjojsk.se/bokningskalender/bokning-algbana-oppen-traning/2026-09-07/
LOCATION:Älgbanan
CATEGORIES:Träning
ORGANIZER;CN="Miro Capin":MAILTO:mrcapin@gmail.com
END:VEVENT
BEGIN:VEVENT
DTSTART;TZID=Europe/Stockholm:20260908T180000
DTEND;TZID=Europe/Stockholm:20260908T203000
DTSTAMP:20260419T211313
CREATED:20260401T112036Z
LAST-MODIFIED:20260401T112036Z
UID:10002349-1788890400-1788899400@vaxjojsk.se
SUMMARY:Bokning älgbana\, öppen träning
DESCRIPTION:Öppen träning för medlemmar och icke medlemmar. \n0709-660699 Miro
URL:https://vaxjojsk.se/bokningskalender/bokning-algbana-oppen-traning/2026-09-08/
LOCATION:Älgbanan
CATEGORIES:Träning
ORGANIZER;CN="Miro Capin":MAILTO:mrcapin@gmail.com
END:VEVENT
BEGIN:VEVENT
DTSTART;TZID=Europe/Stockholm:20260912T090000
DTEND;TZID=Europe/Stockholm:20260912T130000
DTSTAMP:20260419T211313
CREATED:20260401T113040Z
LAST-MODIFIED:20260401T113040Z
UID:10002357-1789203600-1789218000@vaxjojsk.se
SUMMARY:Bokning älgbana
DESCRIPTION:Öppen träning för medlemmar och icke medlemmar. \n0709-660699 Miro
URL:https://vaxjojsk.se/bokningskalender/bokning-algbana-21/2026-09-12/
LOCATION:Älgbanan
CATEGORIES:Träning
ORGANIZER;CN="Miro Capin":MAILTO:mrcapin@gmail.com
END:VEVENT
BEGIN:VEVENT
DTSTART;TZID=Europe/Stockholm:20260914T180000
DTEND;TZID=Europe/Stockholm:20260914T203000
DTSTAMP:20260419T211313
CREATED:20260401T112036Z
LAST-MODIFIED:20260401T112036Z
UID:10002350-1789408800-1789417800@vaxjojsk.se
SUMMARY:Bokning älgbana\, öppen träning
DESCRIPTION:Öppen träning för medlemmar och icke medlemmar. \n0709-660699 Miro
URL:https://vaxjojsk.se/bokningskalender/bokning-algbana-oppen-traning/2026-09-14/
LOCATION:Älgbanan
CATEGORIES:Träning
ORGANIZER;CN="Miro Capin":MAILTO:mrcapin@gmail.com
END:VEVENT
BEGIN:VEVENT
DTSTART;TZID=Europe/Stockholm:20260915T180000
DTEND;TZID=Europe/Stockholm:20260915T203000
DTSTAMP:20260419T211313
CREATED:20260401T112036Z
LAST-MODIFIED:20260401T112036Z
UID:10002351-1789495200-1789504200@vaxjojsk.se
SUMMARY:Bokning älgbana\, öppen träning
DESCRIPTION:Öppen träning för medlemmar och icke medlemmar. \n0709-660699 Miro
URL:https://vaxjojsk.se/bokningskalender/bokning-algbana-oppen-traning/2026-09-15/
LOCATION:Älgbanan
CATEGORIES:Träning
ORGANIZER;CN="Miro Capin":MAILTO:mrcapin@gmail.com
END:VEVENT
BEGIN:VEVENT
DTSTART;TZID=Europe/Stockholm:20260919T090000
DTEND;TZID=Europe/Stockholm:20260919T130000
DTSTAMP:20260419T211313
CREATED:20260401T113040Z
LAST-MODIFIED:20260401T113040Z
UID:10002358-1789808400-1789822800@vaxjojsk.se
SUMMARY:Bokning älgbana
DESCRIPTION:Öppen träning för medlemmar och icke medlemmar. \n0709-660699 Miro
URL:https://vaxjojsk.se/bokningskalender/bokning-algbana-21/2026-09-19/
LOCATION:Älgbanan
CATEGORIES:Träning
ORGANIZER;CN="Miro Capin":MAILTO:mrcapin@gmail.com
END:VEVENT
BEGIN:VEVENT
DTSTART;TZID=Europe/Stockholm:20260921T180000
DTEND;TZID=Europe/Stockholm:20260921T203000
DTSTAMP:20260419T211313
CREATED:20260401T112036Z
LAST-MODIFIED:20260401T112036Z
UID:10002352-1790013600-1790022600@vaxjojsk.se
SUMMARY:Bokning älgbana\, öppen träning
DESCRIPTION:Öppen träning för medlemmar och icke medlemmar. \n0709-660699 Miro
URL:https://vaxjojsk.se/bokningskalender/bokning-algbana-oppen-traning/2026-09-21/
LOCATION:Älgbanan
CATEGORIES:Träning
ORGANIZER;CN="Miro Capin":MAILTO:mrcapin@gmail.com
END:VEVENT
BEGIN:VEVENT
DTSTART;TZID=Europe/Stockholm:20260922T180000
DTEND;TZID=Europe/Stockholm:20260922T203000
DTSTAMP:20260419T211313
CREATED:20260401T112036Z
LAST-MODIFIED:20260401T112036Z
UID:10002353-1790100000-1790109000@vaxjojsk.se
SUMMARY:Bokning älgbana\, öppen träning
DESCRIPTION:Öppen träning för medlemmar och icke medlemmar. \n0709-660699 Miro
URL:https://vaxjojsk.se/bokningskalender/bokning-algbana-oppen-traning/2026-09-22/
LOCATION:Älgbanan
CATEGORIES:Träning
ORGANIZER;CN="Miro Capin":MAILTO:mrcapin@gmail.com
END:VEVENT
BEGIN:VEVENT
DTSTART;TZID=Europe/Stockholm:20260926T090000
DTEND;TZID=Europe/Stockholm:20260926T130000
DTSTAMP:20260419T211313
CREATED:20260401T113040Z
LAST-MODIFIED:20260401T113040Z
UID:10002359-1790413200-1790427600@vaxjojsk.se
SUMMARY:Bokning älgbana
DESCRIPTION:Öppen träning för medlemmar och icke medlemmar. \n0709-660699 Miro
URL:https://vaxjojsk.se/bokningskalender/bokning-algbana-21/2026-09-26/
LOCATION:Älgbanan
CATEGORIES:Träning
ORGANIZER;CN="Miro Capin":MAILTO:mrcapin@gmail.com
END:VEVENT
BEGIN:VEVENT
DTSTART;TZID=Europe/Stockholm:20260928T180000
DTEND;TZID=Europe/Stockholm:20260928T203000
DTSTAMP:20260419T211313
CREATED:20260401T112036Z
LAST-MODIFIED:20260401T112036Z
UID:10002354-1790618400-1790627400@vaxjojsk.se
SUMMARY:Bokning älgbana\, öppen träning
DESCRIPTION:Öppen träning för medlemmar och icke medlemmar. \n0709-660699 Miro
URL:https://vaxjojsk.se/bokningskalender/bokning-algbana-oppen-traning/2026-09-28/
LOCATION:Älgbanan
CATEGORIES:Träning
ORGANIZER;CN="Miro Capin":MAILTO:mrcapin@gmail.com
END:VEVENT
BEGIN:VEVENT
DTSTART;TZID=Europe/Stockholm:20260929T180000
DTEND;TZID=Europe/Stockholm:20260929T203000
DTSTAMP:20260419T211313
CREATED:20260401T112036Z
LAST-MODIFIED:20260401T112036Z
UID:10002355-1790704800-1790713800@vaxjojsk.se
SUMMARY:Bokning älgbana\, öppen träning
DESCRIPTION:Öppen träning för medlemmar och icke medlemmar. \n0709-660699 Miro
URL:https://vaxjojsk.se/bokningskalender/bokning-algbana-oppen-traning/2026-09-29/
LOCATION:Älgbanan
CATEGORIES:Träning
ORGANIZER;CN="Miro Capin":MAILTO:mrcapin@gmail.com
END:VEVENT
BEGIN:VEVENT
DTSTART;TZID=Europe/Stockholm:20261003T090000
DTEND;TZID=Europe/Stockholm:20261003T130000
DTSTAMP:20260419T211313
CREATED:20260401T113040Z
LAST-MODIFIED:20260401T113040Z
UID:10002360-1791018000-1791032400@vaxjojsk.se
SUMMARY:Bokning älgbana
DESCRIPTION:Öppen träning för medlemmar och icke medlemmar. \n0709-660699 Miro
URL:https://vaxjojsk.se/bokningskalender/bokning-algbana-21/2026-10-03/
LOCATION:Älgbanan
CATEGORIES:Träning
ORGANIZER;CN="Miro Capin":MAILTO:mrcapin@gmail.com
END:VEVENT
END:VCALENDAR