BEGIN:VCALENDAR
VERSION:2.0
PRODID:-//Välkommen till Växjö Jaktskytteklubb - ECPv6.15.20//NONSGML v1.0//EN
CALSCALE:GREGORIAN
METHOD:PUBLISH
X-WR-CALNAME:Välkommen till Växjö Jaktskytteklubb
X-ORIGINAL-URL:https://vaxjojsk.se
X-WR-CALDESC:Händelser för Välkommen till Växjö Jaktskytteklubb
REFRESH-INTERVAL;VALUE=DURATION:PT1H
X-Robots-Tag:noindex
X-PUBLISHED-TTL:PT1H
BEGIN:VTIMEZONE
TZID:Europe/Stockholm
BEGIN:DAYLIGHT
TZOFFSETFROM:+0100
TZOFFSETTO:+0200
TZNAME:CEST
DTSTART:20240331T010000
END:DAYLIGHT
BEGIN:STANDARD
TZOFFSETFROM:+0200
TZOFFSETTO:+0100
TZNAME:CET
DTSTART:20241027T010000
END:STANDARD
BEGIN:DAYLIGHT
TZOFFSETFROM:+0100
TZOFFSETTO:+0200
TZNAME:CEST
DTSTART:20250330T010000
END:DAYLIGHT
BEGIN:STANDARD
TZOFFSETFROM:+0200
TZOFFSETTO:+0100
TZNAME:CET
DTSTART:20251026T010000
END:STANDARD
BEGIN:DAYLIGHT
TZOFFSETFROM:+0100
TZOFFSETTO:+0200
TZNAME:CEST
DTSTART:20260329T010000
END:DAYLIGHT
BEGIN:STANDARD
TZOFFSETFROM:+0200
TZOFFSETTO:+0100
TZNAME:CET
DTSTART:20261025T010000
END:STANDARD
END:VTIMEZONE
BEGIN:VEVENT
DTSTART;TZID=Europe/Stockholm:20251003T150000
DTEND;TZID=Europe/Stockholm:20251003T173000
DTSTAMP:20260419T213132
CREATED:20250929T121750Z
LAST-MODIFIED:20250929T121803Z
UID:10001992-1759503600-1759512600@vaxjojsk.se
SUMMARY:Bokning sporting 1-5\, 15-17.30
DESCRIPTION:Våge 0730-921192
URL:https://vaxjojsk.se/bokningskalender/bokning-sporting-1-5-15-17-30/
LOCATION:Sportingbana 1-5
CATEGORIES:Träning
ORGANIZER;CN="V%C3%A5ge Hagelberg":MAILTO:vage.hagelberg@merit-ab.se
END:VEVENT
BEGIN:VEVENT
DTSTART;TZID=Europe/Stockholm:20250925T140000
DTEND;TZID=Europe/Stockholm:20250925T160000
DTSTAMP:20260419T213132
CREATED:20250924T160609Z
LAST-MODIFIED:20250924T205000Z
UID:10001987-1758808800-1758816000@vaxjojsk.se
SUMMARY:Bokning sporting 1-5\, 14-16
DESCRIPTION:Våge 0730 921192
URL:https://vaxjojsk.se/bokningskalender/bokning-sporting-1-5-5/
LOCATION:Sportingbana 1-5
CATEGORIES:Träning
ORGANIZER;CN="V%C3%A5ge Hagelberg":MAILTO:vage.hagelberg@merit-ab.se
END:VEVENT
BEGIN:VEVENT
DTSTART;TZID=Europe/Stockholm:20250910T180000
DTEND;TZID=Europe/Stockholm:20250910T200000
DTSTAMP:20260419T213132
CREATED:20250910T161103Z
LAST-MODIFIED:20250910T161259Z
UID:10001479-1757527200-1757534400@vaxjojsk.se
SUMMARY:Sporting öppen träning 18-
DESCRIPTION:Anmälan 18-19
URL:https://vaxjojsk.se/bokningskalender/sporting-oppen-traning-18-2/2025-09-10/
LOCATION:Sportingbana 1-5
CATEGORIES:Träning
END:VEVENT
BEGIN:VEVENT
DTSTART;TZID=Europe/Stockholm:20250903T180000
DTEND;TZID=Europe/Stockholm:20250903T200000
DTSTAMP:20260419T213132
CREATED:20250301T161147Z
LAST-MODIFIED:20250902T123951Z
UID:10001478-1756922400-1756929600@vaxjojsk.se
SUMMARY:Sporting öppen träning 18-
DESCRIPTION:Anmälan 18-19
URL:https://vaxjojsk.se/bokningskalender/sporting-oppen-traning-18/2025-09-03/
LOCATION:Sportingbana 1-5
CATEGORIES:Träning
END:VEVENT
BEGIN:VEVENT
DTSTART;TZID=Europe/Stockholm:20250827T180000
DTEND;TZID=Europe/Stockholm:20250827T200000
DTSTAMP:20260419T213132
CREATED:20250301T161147Z
LAST-MODIFIED:20250902T123951Z
UID:10001477-1756317600-1756324800@vaxjojsk.se
SUMMARY:Sporting öppen träning 18-
DESCRIPTION:Anmälan 18-19
URL:https://vaxjojsk.se/bokningskalender/sporting-oppen-traning-18/2025-08-27/
LOCATION:Sportingbana 1-5
CATEGORIES:Träning
END:VEVENT
BEGIN:VEVENT
DTSTART;TZID=Europe/Stockholm:20250820T180000
DTEND;TZID=Europe/Stockholm:20250820T200000
DTSTAMP:20260419T213132
CREATED:20250301T161147Z
LAST-MODIFIED:20250902T123951Z
UID:10001476-1755712800-1755720000@vaxjojsk.se
SUMMARY:Sporting öppen träning 18-
DESCRIPTION:Anmälan 18-19
URL:https://vaxjojsk.se/bokningskalender/sporting-oppen-traning-18/2025-08-20/
LOCATION:Sportingbana 1-5
CATEGORIES:Träning
END:VEVENT
BEGIN:VEVENT
DTSTART;TZID=Europe/Stockholm:20250813T180000
DTEND;TZID=Europe/Stockholm:20250813T200000
DTSTAMP:20260419T213133
CREATED:20250301T161147Z
LAST-MODIFIED:20250902T123951Z
UID:10001475-1755108000-1755115200@vaxjojsk.se
SUMMARY:Sporting öppen träning 18-
DESCRIPTION:Anmälan 18-19
URL:https://vaxjojsk.se/bokningskalender/sporting-oppen-traning-18/2025-08-13/
LOCATION:Sportingbana 1-5
CATEGORIES:Träning
END:VEVENT
BEGIN:VEVENT
DTSTART;TZID=Europe/Stockholm:20250806T180000
DTEND;TZID=Europe/Stockholm:20250806T200000
DTSTAMP:20260419T213133
CREATED:20250301T161147Z
LAST-MODIFIED:20250902T123951Z
UID:10001474-1754503200-1754510400@vaxjojsk.se
SUMMARY:Sporting öppen träning 18-
DESCRIPTION:Anmälan 18-19
URL:https://vaxjojsk.se/bokningskalender/sporting-oppen-traning-18/2025-08-06/
LOCATION:Sportingbana 1-5
CATEGORIES:Träning
END:VEVENT
BEGIN:VEVENT
DTSTART;TZID=Europe/Stockholm:20250802T090000
DTEND;TZID=Europe/Stockholm:20250802T140000
DTSTAMP:20260419T213133
CREATED:20250602T181336Z
LAST-MODIFIED:20250627T120736Z
UID:10001852-1754125200-1754143200@vaxjojsk.se
SUMMARY:Bokning sporting bana 1-5\, 9-14
DESCRIPTION:Våge 0730-921192\, SWK Småland Öland
URL:https://vaxjojsk.se/bokningskalender/bokning-sporting-bana-1-5-9-14/
LOCATION:Sportingbana 1-5
CATEGORIES:Träning
ORGANIZER;CN="V%C3%A5ge Hagelberg":MAILTO:vage.hagelberg@merit-ab.se
END:VEVENT
BEGIN:VEVENT
DTSTART;TZID=Europe/Stockholm:20250730T180000
DTEND;TZID=Europe/Stockholm:20250730T200000
DTSTAMP:20260419T213133
CREATED:20250301T161147Z
LAST-MODIFIED:20250902T123951Z
UID:10001473-1753898400-1753905600@vaxjojsk.se
SUMMARY:Sporting öppen träning 18-
DESCRIPTION:Anmälan 18-19
URL:https://vaxjojsk.se/bokningskalender/sporting-oppen-traning-18/2025-07-30/
LOCATION:Sportingbana 1-5
CATEGORIES:Träning
END:VEVENT
BEGIN:VEVENT
DTSTART;TZID=Europe/Stockholm:20250723T180000
DTEND;TZID=Europe/Stockholm:20250723T200000
DTSTAMP:20260419T213133
CREATED:20250301T161147Z
LAST-MODIFIED:20250902T123951Z
UID:10001472-1753293600-1753300800@vaxjojsk.se
SUMMARY:Sporting öppen träning 18-
DESCRIPTION:Anmälan 18-19
URL:https://vaxjojsk.se/bokningskalender/sporting-oppen-traning-18/2025-07-23/
LOCATION:Sportingbana 1-5
CATEGORIES:Träning
END:VEVENT
BEGIN:VEVENT
DTSTART;TZID=Europe/Stockholm:20250722T100000
DTEND;TZID=Europe/Stockholm:20250722T130000
DTSTAMP:20260419T213133
CREATED:20250611T155319Z
LAST-MODIFIED:20250627T101144Z
UID:10001868-1753178400-1753189200@vaxjojsk.se
SUMMARY:Bokning Sporting\,  1-5\, 10-13
DESCRIPTION:Våge\, 0730-921192 (Tor)
URL:https://vaxjojsk.se/bokningskalender/bokning-sporting-1-5-10-13-2/
LOCATION:Sportingbana 1-5
CATEGORIES:Träning
ORGANIZER;CN="V%C3%A5ge Hagelberg":MAILTO:vage.hagelberg@merit-ab.se
END:VEVENT
BEGIN:VEVENT
DTSTART;TZID=Europe/Stockholm:20250721T090000
DTEND;TZID=Europe/Stockholm:20250721T090000
DTSTAMP:20260419T213133
CREATED:20250605T054827Z
LAST-MODIFIED:20250627T101304Z
UID:10001861-1753088400-1753088400@vaxjojsk.se
SUMMARY:Bokning Sporting 1-5\, 9-12
DESCRIPTION:Våge 0730-921192 (Tomas o Anders)
URL:https://vaxjojsk.se/bokningskalender/bokning-sporting-1-5-3/
LOCATION:Sportingbana 1-5
CATEGORIES:Träning
ORGANIZER;CN="V%C3%A5ge Hagelberg":MAILTO:vage.hagelberg@merit-ab.se
END:VEVENT
BEGIN:VEVENT
DTSTART;TZID=Europe/Stockholm:20250716T180000
DTEND;TZID=Europe/Stockholm:20250716T200000
DTSTAMP:20260419T213133
CREATED:20250301T161147Z
LAST-MODIFIED:20250902T123951Z
UID:10001471-1752688800-1752696000@vaxjojsk.se
SUMMARY:Sporting öppen träning 18-
DESCRIPTION:Anmälan 18-19
URL:https://vaxjojsk.se/bokningskalender/sporting-oppen-traning-18/2025-07-16/
LOCATION:Sportingbana 1-5
CATEGORIES:Träning
END:VEVENT
BEGIN:VEVENT
DTSTART;TZID=Europe/Stockholm:20250709T180000
DTEND;TZID=Europe/Stockholm:20250709T200000
DTSTAMP:20260419T213133
CREATED:20250301T161147Z
LAST-MODIFIED:20250902T123951Z
UID:10001470-1752084000-1752091200@vaxjojsk.se
SUMMARY:Sporting öppen träning 18-
DESCRIPTION:Anmälan 18-19
URL:https://vaxjojsk.se/bokningskalender/sporting-oppen-traning-18/2025-07-09/
LOCATION:Sportingbana 1-5
CATEGORIES:Träning
END:VEVENT
BEGIN:VEVENT
DTSTART;TZID=Europe/Stockholm:20250708T140000
DTEND;TZID=Europe/Stockholm:20250708T173000
DTSTAMP:20260419T213133
CREATED:20250705T110745Z
LAST-MODIFIED:20250705T110745Z
UID:10001907-1751983200-1751995800@vaxjojsk.se
SUMMARY:Bokn sporting
DESCRIPTION:
URL:https://vaxjojsk.se/bokningskalender/bokn-sporting-2/
LOCATION:Sportingbana 1-5
CATEGORIES:Övrigt
ORGANIZER;CN="Mikael Listerud":MAILTO:enkoneryd@gmail.com
END:VEVENT
BEGIN:VEVENT
DTSTART;TZID=Europe/Stockholm:20250704T153000
DTEND;TZID=Europe/Stockholm:20250704T180000
DTSTAMP:20260419T213133
CREATED:20250701T204309Z
LAST-MODIFIED:20250701T204309Z
UID:10001901-1751643000-1751652000@vaxjojsk.se
SUMMARY:Bokn sporting
DESCRIPTION:
URL:https://vaxjojsk.se/bokningskalender/bokn-sporting/
LOCATION:Sportingbana 1-5
CATEGORIES:Övrigt
ORGANIZER;CN="Mikael Listerud":MAILTO:enkoneryd@gmail.com
END:VEVENT
BEGIN:VEVENT
DTSTART;TZID=Europe/Stockholm:20250702T180000
DTEND;TZID=Europe/Stockholm:20250702T200000
DTSTAMP:20260419T213133
CREATED:20250301T161147Z
LAST-MODIFIED:20250902T123951Z
UID:10001469-1751479200-1751486400@vaxjojsk.se
SUMMARY:Sporting öppen träning 18-
DESCRIPTION:Anmälan 18-19
URL:https://vaxjojsk.se/bokningskalender/sporting-oppen-traning-18/2025-07-02/
LOCATION:Sportingbana 1-5
CATEGORIES:Träning
END:VEVENT
BEGIN:VEVENT
DTSTART;TZID=Europe/Stockholm:20250625T180000
DTEND;TZID=Europe/Stockholm:20250625T200000
DTSTAMP:20260419T213133
CREATED:20250301T161147Z
LAST-MODIFIED:20250902T123951Z
UID:10001468-1750874400-1750881600@vaxjojsk.se
SUMMARY:Sporting öppen träning 18-
DESCRIPTION:Anmälan 18-19
URL:https://vaxjojsk.se/bokningskalender/sporting-oppen-traning-18/2025-06-25/
LOCATION:Sportingbana 1-5
CATEGORIES:Träning
END:VEVENT
BEGIN:VEVENT
DTSTART;TZID=Europe/Stockholm:20250624T080000
DTEND;TZID=Europe/Stockholm:20250624T150000
DTSTAMP:20260419T213133
CREATED:20250527T074831Z
LAST-MODIFIED:20250527T075010Z
UID:10001847-1750752000-1750777200@vaxjojsk.se
SUMMARY:Bokning Sporting 1-5\, 8-15
DESCRIPTION:Ftg Event Garantum Niclas Höjer 073-3600100
URL:https://vaxjojsk.se/bokningskalender/bokning-sporting-1-5-2/
LOCATION:Sportingbana 1-5
CATEGORIES:Träning
ORGANIZER;CN="Niclas H%C3%B6jer":MAILTO:niclas@hojers.se
END:VEVENT
BEGIN:VEVENT
DTSTART;TZID=Europe/Stockholm:20250618T180000
DTEND;TZID=Europe/Stockholm:20250618T200000
DTSTAMP:20260419T213133
CREATED:20250301T161147Z
LAST-MODIFIED:20250902T123951Z
UID:10001467-1750269600-1750276800@vaxjojsk.se
SUMMARY:Sporting öppen träning 18-
DESCRIPTION:Anmälan 18-19
URL:https://vaxjojsk.se/bokningskalender/sporting-oppen-traning-18/2025-06-18/
LOCATION:Sportingbana 1-5
CATEGORIES:Träning
END:VEVENT
BEGIN:VEVENT
DTSTART;TZID=Europe/Stockholm:20250611T180000
DTEND;TZID=Europe/Stockholm:20250611T200000
DTSTAMP:20260419T213133
CREATED:20250301T161147Z
LAST-MODIFIED:20250902T123951Z
UID:10001466-1749664800-1749672000@vaxjojsk.se
SUMMARY:Sporting öppen träning 18-
DESCRIPTION:Anmälan 18-19
URL:https://vaxjojsk.se/bokningskalender/sporting-oppen-traning-18/2025-06-11/
LOCATION:Sportingbana 1-5
CATEGORIES:Träning
END:VEVENT
BEGIN:VEVENT
DTSTART;TZID=Europe/Stockholm:20250604T180000
DTEND;TZID=Europe/Stockholm:20250604T200000
DTSTAMP:20260419T213133
CREATED:20250301T161147Z
LAST-MODIFIED:20250902T123951Z
UID:10001465-1749060000-1749067200@vaxjojsk.se
SUMMARY:Sporting öppen träning 18-
DESCRIPTION:Anmälan 18-19
URL:https://vaxjojsk.se/bokningskalender/sporting-oppen-traning-18/2025-06-04/
LOCATION:Sportingbana 1-5
CATEGORIES:Träning
END:VEVENT
BEGIN:VEVENT
DTSTART;TZID=Europe/Stockholm:20250528T180000
DTEND;TZID=Europe/Stockholm:20250528T200000
DTSTAMP:20260419T213133
CREATED:20250301T161147Z
LAST-MODIFIED:20250902T123951Z
UID:10001464-1748455200-1748462400@vaxjojsk.se
SUMMARY:Sporting öppen träning 18-
DESCRIPTION:Anmälan 18-19
URL:https://vaxjojsk.se/bokningskalender/sporting-oppen-traning-18/2025-05-28/
LOCATION:Sportingbana 1-5
CATEGORIES:Träning
END:VEVENT
BEGIN:VEVENT
DTSTART;TZID=Europe/Stockholm:20250521T180000
DTEND;TZID=Europe/Stockholm:20250521T200000
DTSTAMP:20260419T213133
CREATED:20250301T161147Z
LAST-MODIFIED:20250902T123951Z
UID:10001463-1747850400-1747857600@vaxjojsk.se
SUMMARY:Sporting öppen träning 18-
DESCRIPTION:Anmälan 18-19
URL:https://vaxjojsk.se/bokningskalender/sporting-oppen-traning-18/2025-05-21/
LOCATION:Sportingbana 1-5
CATEGORIES:Träning
END:VEVENT
BEGIN:VEVENT
DTSTART;TZID=Europe/Stockholm:20250514T180000
DTEND;TZID=Europe/Stockholm:20250514T200000
DTSTAMP:20260419T213133
CREATED:20250301T161147Z
LAST-MODIFIED:20250902T123951Z
UID:10001462-1747245600-1747252800@vaxjojsk.se
SUMMARY:Sporting öppen träning 18-
DESCRIPTION:Anmälan 18-19
URL:https://vaxjojsk.se/bokningskalender/sporting-oppen-traning-18/2025-05-14/
LOCATION:Sportingbana 1-5
CATEGORIES:Träning
END:VEVENT
BEGIN:VEVENT
DTSTART;TZID=Europe/Stockholm:20250507T180000
DTEND;TZID=Europe/Stockholm:20250507T200000
DTSTAMP:20260419T213133
CREATED:20250301T161147Z
LAST-MODIFIED:20250902T123951Z
UID:10001461-1746640800-1746648000@vaxjojsk.se
SUMMARY:Sporting öppen träning 18-
DESCRIPTION:Anmälan 18-19
URL:https://vaxjojsk.se/bokningskalender/sporting-oppen-traning-18/2025-05-07/
LOCATION:Sportingbana 1-5
CATEGORIES:Träning
END:VEVENT
BEGIN:VEVENT
DTSTART;TZID=Europe/Stockholm:20250430T180000
DTEND;TZID=Europe/Stockholm:20250430T200000
DTSTAMP:20260419T213133
CREATED:20250301T161147Z
LAST-MODIFIED:20250902T123951Z
UID:10001460-1746036000-1746043200@vaxjojsk.se
SUMMARY:Sporting öppen träning 18-
DESCRIPTION:Anmälan 18-19
URL:https://vaxjojsk.se/bokningskalender/sporting-oppen-traning-18/2025-04-30/
LOCATION:Sportingbana 1-5
CATEGORIES:Träning
END:VEVENT
BEGIN:VEVENT
DTSTART;TZID=Europe/Stockholm:20250423T180000
DTEND;TZID=Europe/Stockholm:20250423T200000
DTSTAMP:20260419T213133
CREATED:20250301T161147Z
LAST-MODIFIED:20250902T123951Z
UID:10001459-1745431200-1745438400@vaxjojsk.se
SUMMARY:Sporting öppen träning 18-
DESCRIPTION:Anmälan 18-19
URL:https://vaxjojsk.se/bokningskalender/sporting-oppen-traning-18/2025-04-23/
LOCATION:Sportingbana 1-5
CATEGORIES:Träning
END:VEVENT
BEGIN:VEVENT
DTSTART;TZID=Europe/Stockholm:20250416T180000
DTEND;TZID=Europe/Stockholm:20250416T200000
DTSTAMP:20260419T213133
CREATED:20250301T161147Z
LAST-MODIFIED:20250902T123951Z
UID:10001458-1744826400-1744833600@vaxjojsk.se
SUMMARY:Sporting öppen träning 18-
DESCRIPTION:Anmälan 18-19
URL:https://vaxjojsk.se/bokningskalender/sporting-oppen-traning-18/2025-04-16/
LOCATION:Sportingbana 1-5
CATEGORIES:Träning
END:VEVENT
END:VCALENDAR