BEGIN:VCALENDAR
VERSION:2.0
PRODID:-//Välkommen till Växjö Jaktskytteklubb - ECPv6.15.20//NONSGML v1.0//EN
CALSCALE:GREGORIAN
METHOD:PUBLISH
X-ORIGINAL-URL:https://vaxjojsk.se
X-WR-CALDESC:Händelser för Välkommen till Växjö Jaktskytteklubb
REFRESH-INTERVAL;VALUE=DURATION:PT1H
X-Robots-Tag:noindex
X-PUBLISHED-TTL:PT1H
BEGIN:VTIMEZONE
TZID:Europe/Stockholm
BEGIN:DAYLIGHT
TZOFFSETFROM:+0100
TZOFFSETTO:+0200
TZNAME:CEST
DTSTART:20220327T010000
END:DAYLIGHT
BEGIN:STANDARD
TZOFFSETFROM:+0200
TZOFFSETTO:+0100
TZNAME:CET
DTSTART:20221030T010000
END:STANDARD
BEGIN:DAYLIGHT
TZOFFSETFROM:+0100
TZOFFSETTO:+0200
TZNAME:CEST
DTSTART:20230326T010000
END:DAYLIGHT
BEGIN:STANDARD
TZOFFSETFROM:+0200
TZOFFSETTO:+0100
TZNAME:CET
DTSTART:20231029T010000
END:STANDARD
BEGIN:DAYLIGHT
TZOFFSETFROM:+0100
TZOFFSETTO:+0200
TZNAME:CEST
DTSTART:20240331T010000
END:DAYLIGHT
BEGIN:STANDARD
TZOFFSETFROM:+0200
TZOFFSETTO:+0100
TZNAME:CET
DTSTART:20241027T010000
END:STANDARD
END:VTIMEZONE
BEGIN:VEVENT
DTSTART;TZID=Europe/Stockholm:20230819T130000
DTEND;TZID=Europe/Stockholm:20230819T160000
DTSTAMP:20260420T075946
CREATED:20230819T084059Z
LAST-MODIFIED:20230819T084112Z
UID:10000576-1692450000-1692460800@vaxjojsk.se
SUMMARY:Bokning Sporting 1-5\, 13-16
DESCRIPTION:Våge 0730-921192
URL:https://vaxjojsk.se/bokningskalender/bokning-sporting-1-5-13-16/
LOCATION:Sportingbana 1-5
CATEGORIES:Träning
END:VEVENT
BEGIN:VEVENT
DTSTART;TZID=Europe/Stockholm:20230809T180000
DTEND;TZID=Europe/Stockholm:20230809T190000
DTSTAMP:20260420T075946
CREATED:20230616T145627Z
LAST-MODIFIED:20230616T145627Z
UID:10000496-1691604000-1691607600@vaxjojsk.se
SUMMARY:KM Sporting\, anmälan 18-19
DESCRIPTION:
URL:https://vaxjojsk.se/bokningskalender/km-sporting-anmalan-18-19/
LOCATION:Sportingbana 1-5
CATEGORIES:Tävling
END:VEVENT
BEGIN:VEVENT
DTSTART;TZID=Europe/Stockholm:20230805T100000
DTEND;TZID=Europe/Stockholm:20230805T150000
DTSTAMP:20260420T075946
CREATED:20230730T192020Z
LAST-MODIFIED:20230730T192020Z
UID:10000541-1691229600-1691247600@vaxjojsk.se
SUMMARY:Bokning sporting 1-5
DESCRIPTION:Våge
URL:https://vaxjojsk.se/bokningskalender/bokning-sporting-1-5/
LOCATION:Sportingbana 1-5
END:VEVENT
BEGIN:VEVENT
DTSTART;TZID=Europe/Stockholm:20230725T160000
DTEND;TZID=Europe/Stockholm:20230725T210000
DTSTAMP:20260420T075946
CREATED:20230712T144843Z
LAST-MODIFIED:20230712T145042Z
UID:10000518-1690300800-1690318800@vaxjojsk.se
SUMMARY:Bokning sportingbanorna 16-21
DESCRIPTION:Våge\, Tommy\, Joakim Svensson\, Jägarförbundet Kronoberg
URL:https://vaxjojsk.se/bokningskalender/bokning-sportingbanorna-1-5-16-21/
LOCATION:Sportingbana 1-5
CATEGORIES:Övrigt
END:VEVENT
BEGIN:VEVENT
DTSTART;TZID=Europe/Stockholm:20230710T080000
DTEND;TZID=Europe/Stockholm:20230710T150000
DTSTAMP:20260420T075946
CREATED:20230612T155739Z
LAST-MODIFIED:20230612T155739Z
UID:10000492-1688976000-1689001200@vaxjojsk.se
SUMMARY:Bokning sporting 1-5\, 8-15
DESCRIPTION:Tommy Karlsson
URL:https://vaxjojsk.se/bokningskalender/bokning-sporting-1-5-8-15/
LOCATION:Sportingbana 1-5
END:VEVENT
BEGIN:VEVENT
DTSTART;TZID=Europe/Stockholm:20230630T120000
DTEND;TZID=Europe/Stockholm:20230630T150000
DTSTAMP:20260420T075946
CREATED:20230526T064619Z
LAST-MODIFIED:20230526T064619Z
UID:10000476-1688126400-1688137200@vaxjojsk.se
SUMMARY:Bokning sporting  bana 1 bana 5\, 13-14.30
DESCRIPTION:Bokning Våge 0730-921192 \nJ-O Swantesson 070-5365322
URL:https://vaxjojsk.se/bokningskalender/bokning-sporting-bana-1-bana-5-13-14-30/
LOCATION:Sportingbana 1-5
END:VEVENT
BEGIN:VEVENT
DTSTART;TZID=Europe/Stockholm:20230609T113000
DTEND;TZID=Europe/Stockholm:20230609T143000
DTSTAMP:20260420T075946
CREATED:20230609T063158Z
LAST-MODIFIED:20230609T063253Z
UID:10000489-1686310200-1686321000@vaxjojsk.se
SUMMARY:Bokning Sporting bana 1-15\, 11.30-14.30
DESCRIPTION:Våge 0730-921192
URL:https://vaxjojsk.se/bokningskalender/bokning-sporting-bana-1-15/
LOCATION:Sportingbana 1-5
CATEGORIES:Övrigt
END:VEVENT
BEGIN:VEVENT
DTSTART;TZID=Europe/Stockholm:20230606T120000
DTEND;TZID=Europe/Stockholm:20230606T180000
DTSTAMP:20260420T075946
CREATED:20230606T074340Z
LAST-MODIFIED:20230606T074340Z
UID:10000484-1686052800-1686074400@vaxjojsk.se
SUMMARY:Skytte\, Johnny Svensson
DESCRIPTION:
URL:https://vaxjojsk.se/bokningskalender/skytte-johnny-svensson/
LOCATION:Sportingbana 1-5
END:VEVENT
BEGIN:VEVENT
DTSTART;TZID=Europe/Stockholm:20230603T160000
DTEND;TZID=Europe/Stockholm:20230603T190000
DTSTAMP:20260420T075946
CREATED:20230602T082417Z
LAST-MODIFIED:20230602T082903Z
UID:10000480-1685808000-1685818800@vaxjojsk.se
SUMMARY:Bokning sporting 1-5\, 16-19
DESCRIPTION:Våge 0730-921192
URL:https://vaxjojsk.se/bokningskalender/bokning-sporting-1-5-16-19/
LOCATION:Sportingbana 1-5
CATEGORIES:Träning
END:VEVENT
END:VCALENDAR